BEGIN:VCALENDAR
VERSION:2.0
PRODID:-//Great Massingham Village Hall - ECPv6.6.3//NONSGML v1.0//EN
CALSCALE:GREGORIAN
METHOD:PUBLISH
X-ORIGINAL-URL:https://greatmassinghamvillagehall.co.uk
X-WR-CALDESC:Events for Great Massingham Village Hall
REFRESH-INTERVAL;VALUE=DURATION:PT1H
X-Robots-Tag:noindex
X-PUBLISHED-TTL:PT1H
BEGIN:VTIMEZONE
TZID:Europe/London
BEGIN:DAYLIGHT
TZOFFSETFROM:+0000
TZOFFSETTO:+0100
TZNAME:BST
DTSTART:20260329T010000
END:DAYLIGHT
BEGIN:STANDARD
TZOFFSETFROM:+0100
TZOFFSETTO:+0000
TZNAME:GMT
DTSTART:20261025T010000
END:STANDARD
END:VTIMEZONE
BEGIN:VEVENT
DTSTART;TZID=Europe/London:20260227T200000
DTEND;TZID=Europe/London:20260227T230000
DTSTAMP:20260420T093953
CREATED:20251104T152937Z
LAST-MODIFIED:20260108T165420Z
UID:10001197-1772222400-1772233200@greatmassinghamvillagehall.co.uk
SUMMARY:Elvis - Live in the Hall!
DESCRIPTION:Elvis is in Great Massingham! Come along for a fabulous evening of singing to the unmistakeable songs of Elvis to keep your night buzzing! \nTickets £10 in advance or £12 on the door \nDoors open at 8 p.m. \nFor tickets please email: greatmassinghamvillagehall@gmail.com or call Debs on 07493 406501 \n 
URL:https://greatmassinghamvillagehall.co.uk/event/elvis-live-in-the-hall/
ATTACH;FMTTYPE=image/jpeg:https://greatmassinghamvillagehall.co.uk/wp-content/uploads/2025/09/karaoke-PS-AI.jpg
END:VEVENT
END:VCALENDAR