BEGIN:VCALENDAR
VERSION:2.0
PRODID:-//Great Massingham Village Hall - ECPv6.6.3//NONSGML v1.0//EN
CALSCALE:GREGORIAN
METHOD:PUBLISH
X-WR-CALNAME:Great Massingham Village Hall
X-ORIGINAL-URL:https://greatmassinghamvillagehall.co.uk
X-WR-CALDESC:Events for Great Massingham Village Hall
REFRESH-INTERVAL;VALUE=DURATION:PT1H
X-Robots-Tag:noindex
X-PUBLISHED-TTL:PT1H
BEGIN:VTIMEZONE
TZID:Europe/London
BEGIN:DAYLIGHT
TZOFFSETFROM:+0000
TZOFFSETTO:+0100
TZNAME:BST
DTSTART:20250330T010000
END:DAYLIGHT
BEGIN:STANDARD
TZOFFSETFROM:+0100
TZOFFSETTO:+0000
TZNAME:GMT
DTSTART:20251026T010000
END:STANDARD
END:VTIMEZONE
BEGIN:VEVENT
DTSTART;TZID=Europe/London:20251114T140000
DTEND;TZID=Europe/London:20251114T180000
DTSTAMP:20260420T073708
CREATED:20251104T160111Z
LAST-MODIFIED:20251104T161424Z
UID:10001199-1763128800-1763143200@greatmassinghamvillagehall.co.uk
SUMMARY:Private Function in the Hall
DESCRIPTION:Details to follow
URL:https://greatmassinghamvillagehall.co.uk/event/private-function-in-the-hall/
LOCATION:Village Hall Bar
CATEGORIES:Private Function
ATTACH;FMTTYPE=image/jpeg:https://greatmassinghamvillagehall.co.uk/wp-content/uploads/2025/04/Main-Hall-2025_3-800x500-1.jpg
END:VEVENT
END:VCALENDAR