BEGIN:VCALENDAR
VERSION:2.0
PRODID:-//Great Massingham Village Hall - ECPv6.6.3//NONSGML v1.0//EN
CALSCALE:GREGORIAN
METHOD:PUBLISH
X-WR-CALNAME:Great Massingham Village Hall
X-ORIGINAL-URL:https://greatmassinghamvillagehall.co.uk
X-WR-CALDESC:Events for Great Massingham Village Hall
REFRESH-INTERVAL;VALUE=DURATION:PT1H
X-Robots-Tag:noindex
X-PUBLISHED-TTL:PT1H
BEGIN:VTIMEZONE
TZID:Europe/London
BEGIN:DAYLIGHT
TZOFFSETFROM:+0000
TZOFFSETTO:+0100
TZNAME:BST
DTSTART:20260329T010000
END:DAYLIGHT
BEGIN:STANDARD
TZOFFSETFROM:+0100
TZOFFSETTO:+0000
TZNAME:GMT
DTSTART:20261025T010000
END:STANDARD
END:VTIMEZONE
BEGIN:VEVENT
DTSTART;TZID=Europe/London:20260423T193000
DTEND;TZID=Europe/London:20260423T230000
DTSTAMP:20260419T130821
CREATED:20251119T161952Z
LAST-MODIFIED:20251119T161952Z
UID:10001226-1776972600-1776985200@greatmassinghamvillagehall.co.uk
SUMMARY:Quiz Night
DESCRIPTION:Questions start at 7:30 pm prompt in the Village Hall Bar. \nEntry is £2 per contestant for members and £4 for non members. Raffle tickets available for £1 a strip. All proceeds are divided 50/50 between the winners and the Village Hall. \nNo need to book in advance – just turn up as a team or join another table. Teams of up to 6. \nFor more information please email Robert Taylor at robertcharlestaylor@live.com
URL:https://greatmassinghamvillagehall.co.uk/event/quiz-night-10/
LOCATION:Village Hall Bar
ATTACH;FMTTYPE=image/jpeg:https://greatmassinghamvillagehall.co.uk/wp-content/uploads/2025/03/quiz-night-16-9.jpg
END:VEVENT
BEGIN:VEVENT
DTSTART;TZID=Europe/London:20260421T123000
DTEND;TZID=Europe/London:20260421T143000
DTSTAMP:20260419T130821
CREATED:20260312T103056Z
LAST-MODIFIED:20260312T103056Z
UID:10001271-1776774600-1776781800@greatmassinghamvillagehall.co.uk
SUMMARY:Lunch\, Munch\, Bunch
DESCRIPTION:Come and enjoy a delicious two-course meal and have a catch-up and chat. \nMenu: Coq au Vin\, croquette potatoes\, seasonal vegetables followed by cheesecake with cream \nArrive at 12.30 with lunch served at 1pm. £9.00 per person. Drinks are available to purchase from the Bar. \nTo book your place please contact Debbie Lambert via the contact form here \, ask at the Bar or call us on 01485 520588 or 07493 406501. \n 
URL:https://greatmassinghamvillagehall.co.uk/event/lunch-munch-bunch-3/
LOCATION:Great Massingham Village Hall\, 58 Station Road\, Great Massingham\, Norfolk\, PE32 2HU\, United Kingdom
ATTACH;FMTTYPE=image/jpeg:https://greatmassinghamvillagehall.co.uk/wp-content/uploads/2024/09/clubs-community-lunch-1-e1762277037233.jpg
END:VEVENT
BEGIN:VEVENT
DTSTART;TZID=Europe/London:20260418T190000
DTEND;TZID=Europe/London:20260418T220000
DTSTAMP:20260419T130821
CREATED:20260209T152651Z
LAST-MODIFIED:20260411T164245Z
UID:10001255-1776538800-1776549600@greatmassinghamvillagehall.co.uk
SUMMARY:Disco & Karaoke
DESCRIPTION:  \nStarts at 7.30  – 11.00 p.m.  Free for members and £2 for non members \nContact Debbie Lambert on greatmassinghamvillagehall@gmail.com for more details
URL:https://greatmassinghamvillagehall.co.uk/event/disco-karaoke/
LOCATION:Great Massingham Village Hall\, 58 Station Road\, Great Massingham\, Norfolk\, PE32 2HU\, United Kingdom
ATTACH;FMTTYPE=image/jpeg:https://greatmassinghamvillagehall.co.uk/wp-content/uploads/2026/02/Disco-night-e1770647612312.jpg
END:VEVENT
BEGIN:VEVENT
DTSTART;TZID=Europe/London:20260417T193000
DTEND;TZID=Europe/London:20260417T213000
DTSTAMP:20260419T130821
CREATED:20260219T164800Z
LAST-MODIFIED:20260219T164800Z
UID:10001259-1776454200-1776461400@greatmassinghamvillagehall.co.uk
SUMMARY:Massingham History Society
DESCRIPTION:War Graves Commission plus photos of Little and Great Massingham gravestones. \n\nFree to Members; £3 for non-members\nBar open for refreshments\n\n7.30pm in the Village Hall \nFor more details contact Jeanne Robinson on 01485 520455. \n 
URL:https://greatmassinghamvillagehall.co.uk/event/massingham-history-society-2/
LOCATION:Great Massingham Village Hall\, 58 Station Road\, Great Massingham\, Norfolk\, PE32 2HU\, United Kingdom
ATTACH;FMTTYPE=image/jpeg:https://greatmassinghamvillagehall.co.uk/wp-content/uploads/2024/09/clubs-history-2.jpg
END:VEVENT
BEGIN:VEVENT
DTSTART;TZID=Europe/London:20260416T190000
DTEND;TZID=Europe/London:20260416T220000
DTSTAMP:20260419T130821
CREATED:20251104T160951Z
LAST-MODIFIED:20251104T160951Z
UID:10001203-1776366000-1776376800@greatmassinghamvillagehall.co.uk
SUMMARY:Film Night
DESCRIPTION:Film Night – 7.00 for 7.30pm in the Village Hall \n£5 entry including a glass of wine. \nFor more information on the film scheduled for tonight see The Mallard\, posters on local notice boards or email massinghamfilmnight@gmail.com \n 
URL:https://greatmassinghamvillagehall.co.uk/event/film-night-14/
ATTACH;FMTTYPE=image/jpeg:https://greatmassinghamvillagehall.co.uk/wp-content/uploads/2024/09/clubs-filmnight.jpg
END:VEVENT
BEGIN:VEVENT
DTSTART;TZID=Europe/London:20260415T130000
DTEND;TZID=Europe/London:20260415T150000
DTSTAMP:20260419T130821
CREATED:20260312T102648Z
LAST-MODIFIED:20260312T102648Z
UID:10001270-1776258000-1776265200@greatmassinghamvillagehall.co.uk
SUMMARY:Creative Socials - Stitching Workshop
DESCRIPTION:  \nCreative Socials are monthly creative workshops for people aged 50+.  Activities change month to month and range from dancing and music\, to arts\, crafts and creative writing.  A welcoming and inclusive group for anyone who wants to try something new\, make new connections and have a cup of tea and a slice of cake!  The social runs from 12.30-3 p.m. \nIf you have any questions regarding any of our workshops or events\, call us directly on 01953 713390 or email info@creativeartseast.co.uk.  Bookings can also be made online via our Ticketsource.co.uk/creative-arts-east \n  \n  \n  \n 
URL:https://greatmassinghamvillagehall.co.uk/event/creative-socials-stitching-workshop-2/
LOCATION:Great Massingham Village Hall\, 58 Station Road\, Great Massingham\, Norfolk\, PE32 2HU\, United Kingdom
END:VEVENT
BEGIN:VEVENT
DTSTART;TZID=Europe/London:20260412T120000
DTEND;TZID=Europe/London:20260412T160000
DTSTAMP:20260419T130821
CREATED:20260312T102455Z
LAST-MODIFIED:20260312T102455Z
UID:10001269-1775995200-1776009600@greatmassinghamvillagehall.co.uk
SUMMARY:Great Massingham Auction
DESCRIPTION:Auction of quality household furniture and effects from local house clearances\, run by the Hunstanton-based sale organisers\, M&C Auctions. The sale starts at 1.30pm\, with viewing between noon and 1.30pm. \nFree to members of the Village Hall\, guests £2. Contact  Mike Green on 07775 663206 or 01485 543200 for further information
URL:https://greatmassinghamvillagehall.co.uk/event/great-massingham-auction-18/
LOCATION:Great Massingham Village Hall\, 58 Station Road\, Great Massingham\, Norfolk\, PE32 2HU\, United Kingdom
ATTACH;FMTTYPE=image/jpeg:https://greatmassinghamvillagehall.co.uk/wp-content/uploads/2025/07/clubs-auction-wide.jpg
END:VEVENT
BEGIN:VEVENT
DTSTART;TZID=Europe/London:20260404T200000
DTEND;TZID=Europe/London:20260404T230000
DTSTAMP:20260419T130821
CREATED:20260209T152004Z
LAST-MODIFIED:20260312T102329Z
UID:10001253-1775332800-1775343600@greatmassinghamvillagehall.co.uk
SUMMARY:Football Club Disco & Karaoke
DESCRIPTION:Tickers £5 \nDoors open at 7 p.m. \n 
URL:https://greatmassinghamvillagehall.co.uk/event/football-club-disco/
ATTACH;FMTTYPE=image/png:https://greatmassinghamvillagehall.co.uk/wp-content/uploads/2025/09/Resize-Party-1.png
END:VEVENT
BEGIN:VEVENT
DTSTART;TZID=Europe/London:20260403T190000
DTEND;TZID=Europe/London:20260403T230000
DTSTAMP:20260419T130821
CREATED:20260209T151631Z
LAST-MODIFIED:20260209T151631Z
UID:10001252-1775242800-1775257200@greatmassinghamvillagehall.co.uk
SUMMARY:Bingo
DESCRIPTION:Doors open 7.00 for 7.30 pm eyes down in the Village Hall. Refreshments are available at the Bar. \n£1 per book  (10 games per book). £1 for the flyer (strip of 6) with all monies taken on the flyer paid back out in prize money. £1 a strip for raffle tickets. \nFor more information\, please contact Diane at dianelovick@yahoo.com or Mel Whitmore on mellybelly110@yahoo.co.uk
URL:https://greatmassinghamvillagehall.co.uk/event/bingo-16/
ATTACH;FMTTYPE=image/jpeg:https://greatmassinghamvillagehall.co.uk/wp-content/uploads/2025/02/bingo-fi-wide.jpeg
END:VEVENT
BEGIN:VEVENT
DTSTART;TZID=Europe/London:20260329T120000
DTEND;TZID=Europe/London:20260329T160000
DTSTAMP:20260419T130821
CREATED:20260209T151523Z
LAST-MODIFIED:20260209T151523Z
UID:10001251-1774785600-1774800000@greatmassinghamvillagehall.co.uk
SUMMARY:Great Massingham Auction
DESCRIPTION:Auction of quality household furniture and effects from local house clearances\, run by the Hunstanton-based sale organisers\, M&C Auctions. The sale starts at 1.30pm\, with viewing between noon and 1.30pm. \nFree to members of the Village Hall\, guests £2. Contact  Mike Green on 07775 663206 or 01485 543200 for further information
URL:https://greatmassinghamvillagehall.co.uk/event/great-massingham-auction-17/
LOCATION:Great Massingham Village Hall\, 58 Station Road\, Great Massingham\, Norfolk\, PE32 2HU\, United Kingdom
ATTACH;FMTTYPE=image/jpeg:https://greatmassinghamvillagehall.co.uk/wp-content/uploads/2025/07/clubs-auction-wide.jpg
END:VEVENT
BEGIN:VEVENT
DTSTART;TZID=Europe/London:20260328T193000
DTEND;TZID=Europe/London:20260328T220000
DTSTAMP:20260419T130821
CREATED:20260209T151406Z
LAST-MODIFIED:20260303T150429Z
UID:10001250-1774726200-1774735200@greatmassinghamvillagehall.co.uk
SUMMARY:Nelson's Shantymen - £5 entry
DESCRIPTION:Come along and enjoy an evening filled with traditional shanties\, great humour and fantastic harmonies that will have you  clapping and singing along. \nRaising money for: Duncan’s Club\, The Purfleet Trust\, Magpas and Norfolk and Waveney Mind. \n7.30 p.m. Tickets available from:  Debbie Lambert on greatmassinghamvillagehall@gmail.com or pop into the bar for tickets. \n£5 a ticket.
URL:https://greatmassinghamvillagehall.co.uk/event/the-shantymen/
LOCATION:Great Massingham Village Hall\, 58 Station Road\, Great Massingham\, Norfolk\, PE32 2HU\, United Kingdom
ATTACH;FMTTYPE=image/jpeg:https://greatmassinghamvillagehall.co.uk/wp-content/uploads/2026/02/Shantymen-e1772123370749.jpg
END:VEVENT
BEGIN:VEVENT
DTSTART;TZID=Europe/London:20260326T190000
DTEND;TZID=Europe/London:20260326T230000
DTSTAMP:20260419T130821
CREATED:20260209T150143Z
LAST-MODIFIED:20260209T150143Z
UID:10001249-1774551600-1774566000@greatmassinghamvillagehall.co.uk
SUMMARY:Fundraising Bingo
DESCRIPTION:Doors open 7.00 for 7.30 pm eyes down in the Village Hall. Refreshments are available at the Bar. \nMore information to follow from Nicola Fryett \n 
URL:https://greatmassinghamvillagehall.co.uk/event/fundraising-bingo/
ATTACH;FMTTYPE=image/jpeg:https://greatmassinghamvillagehall.co.uk/wp-content/uploads/2025/02/bingo-fi-wide.jpeg
END:VEVENT
BEGIN:VEVENT
DTSTART;TZID=Europe/London:20260321T190000
DTEND;TZID=Europe/London:20260321T220000
DTSTAMP:20260419T130821
CREATED:20260209T145806Z
LAST-MODIFIED:20260209T145806Z
UID:10001248-1774119600-1774130400@greatmassinghamvillagehall.co.uk
SUMMARY:Mick Fisher - Sings Country
DESCRIPTION:Come along and enjoy Country and Western music by Mick Fisher…. a fantastic evening and not to be missed! \n7.00 – 10.00 p.m.  Ticket prices:  £7 \nContact Debbie Lambert on greatmassinghamvillagehall@gmail.com for more details
URL:https://greatmassinghamvillagehall.co.uk/event/mick-fisher-sings-country/
LOCATION:Great Massingham Village Hall\, 58 Station Road\, Great Massingham\, Norfolk\, PE32 2HU\, United Kingdom
ATTACH;FMTTYPE=image/jpeg:https://greatmassinghamvillagehall.co.uk/wp-content/uploads/2025/09/karaoke-PS-AI.jpg
END:VEVENT
BEGIN:VEVENT
DTSTART;TZID=Europe/London:20260320T193000
DTEND;TZID=Europe/London:20260320T213000
DTSTAMP:20260419T130821
CREATED:20260219T164516Z
LAST-MODIFIED:20260219T164645Z
UID:10001258-1774035000-1774042200@greatmassinghamvillagehall.co.uk
SUMMARY:Massingham History Society
DESCRIPTION:History of Waggs Bakery by Paul Hewitt plus related photo display. \n\nFree to Members; £3 for non-members\nBar open for refreshments\n\n7.30pm in the Village Hall \nFor more details contact Jeanne Robinson on 01485 520455. \n 
URL:https://greatmassinghamvillagehall.co.uk/event/massingham-history-society/
LOCATION:Great Massingham Village Hall\, 58 Station Road\, Great Massingham\, Norfolk\, PE32 2HU\, United Kingdom
ATTACH;FMTTYPE=image/jpeg:https://greatmassinghamvillagehall.co.uk/wp-content/uploads/2024/09/clubs-history-2.jpg
END:VEVENT
BEGIN:VEVENT
DTSTART;TZID=Europe/London:20260319T190000
DTEND;TZID=Europe/London:20260319T220000
DTSTAMP:20260419T130821
CREATED:20251104T160917Z
LAST-MODIFIED:20251104T160917Z
UID:10001202-1773946800-1773957600@greatmassinghamvillagehall.co.uk
SUMMARY:Film Night
DESCRIPTION:Film Night – 7.00 for 7.30pm in the Village Hall \n£5 entry including a glass of wine. \nFor more information on the film scheduled for tonight see The Mallard\, posters on local notice boards or email massinghamfilmnight@gmail.com \n 
URL:https://greatmassinghamvillagehall.co.uk/event/film-night-13/
ATTACH;FMTTYPE=image/jpeg:https://greatmassinghamvillagehall.co.uk/wp-content/uploads/2024/09/clubs-filmnight.jpg
END:VEVENT
BEGIN:VEVENT
DTSTART;TZID=Europe/London:20260318T130000
DTEND;TZID=Europe/London:20260318T150000
DTSTAMP:20260419T130821
CREATED:20260209T145348Z
LAST-MODIFIED:20260209T145348Z
UID:10001247-1773838800-1773846000@greatmassinghamvillagehall.co.uk
SUMMARY:Stitching Workshops
DESCRIPTION:Creative Socials are monthly creative workshops for people aged 50+.  Activities change month to month and range from dancing and music\, to arts\, crafts and creative writing.  A welcoming and inclusive group for anyone who wants to try something new\, make new connections and have a cup of tea and a slice of cake!  The social runs from 1-3 p.m. \nExplore the theme of belonging through mindful sewing as we create a piece for a beautiful community quilt.  No experience needed – everything will be taught on the day. \nIf you have any questions regarding any of our workshops or events\, call us directly on 01953 713390 or email info@creativeartseast.co.uk.  Bookings can also be made online via our Ticketsource.co.uk/creative-arts-east. \nFor more details and the poster follow the link here  \n  \n  \n 
URL:https://greatmassinghamvillagehall.co.uk/event/stitching-workshops-2/
LOCATION:Great Massingham Village Hall\, 58 Station Road\, Great Massingham\, Norfolk\, PE32 2HU\, United Kingdom
ATTACH;FMTTYPE=image/jpeg:https://greatmassinghamvillagehall.co.uk/wp-content/uploads/2025/12/sewing-kit-5063401_1280-e1765974026166.jpg
END:VEVENT
BEGIN:VEVENT
DTSTART;TZID=Europe/London:20260317T123000
DTEND;TZID=Europe/London:20260317T143000
DTSTAMP:20260419T130821
CREATED:20260209T145140Z
LAST-MODIFIED:20260209T145140Z
UID:10001246-1773750600-1773757800@greatmassinghamvillagehall.co.uk
SUMMARY:Lunch\, Munch\, Bunch
DESCRIPTION:Come and enjoy a delicious two-course meal and have a catch-up and chat. Arrive at 12.30 with lunch served at 1pm. £8.00 per person. Drinks are available to purchase from the Bar. \nTo book your place please contact Debbie Lambert via the contact form here \, ask at the Bar or call us on 01485 520588 or 07493 406501. \n 
URL:https://greatmassinghamvillagehall.co.uk/event/lunch-munch-bunch-2/
LOCATION:Great Massingham Village Hall\, 58 Station Road\, Great Massingham\, Norfolk\, PE32 2HU\, United Kingdom
ATTACH;FMTTYPE=image/jpeg:https://greatmassinghamvillagehall.co.uk/wp-content/uploads/2024/09/clubs-community-lunch-1-e1762277037233.jpg
END:VEVENT
BEGIN:VEVENT
DTSTART;TZID=Europe/London:20260314T200000
DTEND;TZID=Europe/London:20260314T230000
DTSTAMP:20260419T130821
CREATED:20260209T144301Z
LAST-MODIFIED:20260209T144301Z
UID:10001240-1773518400-1773529200@greatmassinghamvillagehall.co.uk
SUMMARY:Motown & Northern Soul Music
DESCRIPTION:Music in the bar! Come along and enjoy! \nDoors open at 8 p.m. \nFor further information please email: greatmassinghamvillagehall@gmail.com or call Debs on 07493 406501 \n 
URL:https://greatmassinghamvillagehall.co.uk/event/motown-northern-soul-music/
ATTACH;FMTTYPE=image/jpeg:https://greatmassinghamvillagehall.co.uk/wp-content/uploads/2026/02/Motown-Niight-e1770647938700.jpg
END:VEVENT
BEGIN:VEVENT
DTSTART;TZID=Europe/London:20260306T190000
DTEND;TZID=Europe/London:20260306T230000
DTSTAMP:20260419T130821
CREATED:20260209T144951Z
LAST-MODIFIED:20260209T144951Z
UID:10001245-1772823600-1772838000@greatmassinghamvillagehall.co.uk
SUMMARY:Bingo
DESCRIPTION:Doors open 7.00 for 7.30 pm eyes down in the Village Hall. Refreshments are available at the Bar. \n£1 per book  (10 games per book). £1 for the flyer (strip of 6) with all monies taken on the flyer paid back out in prize money. £1 a strip for raffle tickets. \nFor more information\, please contact Diane at dianelovick@yahoo.com or Mel Whitmore on mellybelly110@yahoo.co.uk
URL:https://greatmassinghamvillagehall.co.uk/event/bingo-15/
ATTACH;FMTTYPE=image/jpeg:https://greatmassinghamvillagehall.co.uk/wp-content/uploads/2025/02/bingo-fi-wide.jpeg
END:VEVENT
BEGIN:VEVENT
DTSTART;TZID=Europe/London:20260305T190000
DTEND;TZID=Europe/London:20260305T220000
DTSTAMP:20260419T130821
CREATED:20251104T161923Z
LAST-MODIFIED:20251104T161923Z
UID:10001215-1772737200-1772748000@greatmassinghamvillagehall.co.uk
SUMMARY:Massingham Film Night - Members Evening
DESCRIPTION:Members Evening –  2 course dinner\, glass of wine and a film.  7.00 for 7.30pm in the Village Hall \n£19 per person. Open to Film Club members only – invitation via email. \nFor more information on the film scheduled for this evening\, the menu and how to book email massinghamfilmnight@gmail.com \n 
URL:https://greatmassinghamvillagehall.co.uk/event/massingham-film-night-members-evening-6/
LOCATION:Great Massingham Village Hall\, 58 Station Road\, Great Massingham\, Norfolk\, PE32 2HU\, United Kingdom
ATTACH;FMTTYPE=image/jpeg:https://greatmassinghamvillagehall.co.uk/wp-content/uploads/2025/02/clubs-filmnight-MEMBERS-wide.jpg
END:VEVENT
BEGIN:VEVENT
DTSTART;TZID=Europe/London:20260228T120000
DTEND;TZID=Europe/London:20260228T160000
DTSTAMP:20260419T130821
CREATED:20260209T144532Z
LAST-MODIFIED:20260209T144532Z
UID:10001241-1772280000-1772294400@greatmassinghamvillagehall.co.uk
SUMMARY:Great Massingham Auction
DESCRIPTION:Auction of quality household furniture and effects from local house clearances\, run by the Hunstanton-based sale organisers\, M&C Auctions. The sale starts at 1.30pm\, with viewing between noon and 1.30pm. \nFree to members of the Village Hall\, guests £2. Contact  Mike Green on 07775 663206 or 01485 543200 for further information
URL:https://greatmassinghamvillagehall.co.uk/event/great-massingham-auction-16/
LOCATION:Great Massingham Village Hall\, 58 Station Road\, Great Massingham\, Norfolk\, PE32 2HU\, United Kingdom
ATTACH;FMTTYPE=image/jpeg:https://greatmassinghamvillagehall.co.uk/wp-content/uploads/2025/07/clubs-auction-wide.jpg
END:VEVENT
BEGIN:VEVENT
DTSTART;TZID=Europe/London:20260227T200000
DTEND;TZID=Europe/London:20260227T230000
DTSTAMP:20260419T130821
CREATED:20251104T152937Z
LAST-MODIFIED:20260108T165420Z
UID:10001197-1772222400-1772233200@greatmassinghamvillagehall.co.uk
SUMMARY:Elvis - Live in the Hall!
DESCRIPTION:Elvis is in Great Massingham! Come along for a fabulous evening of singing to the unmistakeable songs of Elvis to keep your night buzzing! \nTickets £10 in advance or £12 on the door \nDoors open at 8 p.m. \nFor tickets please email: greatmassinghamvillagehall@gmail.com or call Debs on 07493 406501 \n 
URL:https://greatmassinghamvillagehall.co.uk/event/elvis-live-in-the-hall/
ATTACH;FMTTYPE=image/jpeg:https://greatmassinghamvillagehall.co.uk/wp-content/uploads/2025/09/karaoke-PS-AI.jpg
END:VEVENT
BEGIN:VEVENT
DTSTART;TZID=Europe/London:20260226T193000
DTEND;TZID=Europe/London:20260226T230000
DTSTAMP:20260419T130821
CREATED:20251119T161827Z
LAST-MODIFIED:20251119T161827Z
UID:10001225-1772134200-1772146800@greatmassinghamvillagehall.co.uk
SUMMARY:Quiz Night
DESCRIPTION:Questions start at 7:30 pm prompt in the Village Hall Bar. \nEntry is £2 per contestant for members and £4 for non members. Raffle tickets available for £1 a strip. All proceeds are divided 50/50 between the winners and the Village Hall. \nNo need to book in advance – just turn up as a team or join another table. Teams of up to 6. \nFor more information please email Robert Taylor at robertcharlestaylor@live.com
URL:https://greatmassinghamvillagehall.co.uk/event/quiz-night-6/
LOCATION:Village Hall Bar
ATTACH;FMTTYPE=image/jpeg:https://greatmassinghamvillagehall.co.uk/wp-content/uploads/2025/03/quiz-night-16-9.jpg
END:VEVENT
BEGIN:VEVENT
DTSTART;TZID=Europe/London:20260220T193000
DTEND;TZID=Europe/London:20260220T213000
DTSTAMP:20260419T130821
CREATED:20260215T152354Z
LAST-MODIFIED:20260215T163556Z
UID:10001257-1771615800-1771623000@greatmassinghamvillagehall.co.uk
SUMMARY:Massingham History Society
DESCRIPTION:A talk by Tim Baldwin…. “Massingham Heath\, Past\, Present and Future”. \n\nFree to Members; £3 for non-members\nBar open for refreshments\n\n7.30pm in the Village Hall \nFor more details contact Jeanne Robinson on 01485 520455. \n 
URL:https://greatmassinghamvillagehall.co.uk/event/great-massingham-history-society/
LOCATION:Great Massingham Village Hall\, 58 Station Road\, Great Massingham\, Norfolk\, PE32 2HU\, United Kingdom
ATTACH;FMTTYPE=image/jpeg:https://greatmassinghamvillagehall.co.uk/wp-content/uploads/2026/02/Historical-Society-e1771168742881.jpg
END:VEVENT
BEGIN:VEVENT
DTSTART;TZID=Europe/London:20260219T190000
DTEND;TZID=Europe/London:20260219T220000
DTSTAMP:20260419T130821
CREATED:20251104T160844Z
LAST-MODIFIED:20251104T160844Z
UID:10001201-1771527600-1771538400@greatmassinghamvillagehall.co.uk
SUMMARY:Film Night
DESCRIPTION:Film Night – 7.00 for 7.30pm in the Village Hall \n£5 entry including a glass of wine. \nFor more information on the film scheduled for tonight see The Mallard\, posters on local notice boards or email massinghamfilmnight@gmail.com \n 
URL:https://greatmassinghamvillagehall.co.uk/event/film-night-12/
ATTACH;FMTTYPE=image/jpeg:https://greatmassinghamvillagehall.co.uk/wp-content/uploads/2024/09/clubs-filmnight.jpg
END:VEVENT
BEGIN:VEVENT
DTSTART;TZID=Europe/London:20260218T130000
DTEND;TZID=Europe/London:20260218T150000
DTSTAMP:20260419T130821
CREATED:20260108T165257Z
LAST-MODIFIED:20260108T165257Z
UID:10001237-1771419600-1771426800@greatmassinghamvillagehall.co.uk
SUMMARY:Stitching Workshops
DESCRIPTION:Creative Socials are monthly creative workshops for people aged 50+.  Activities change month to month and range from dancing and music\, to arts\, crafts and creative writing.  A welcoming and inclusive group for anyone who wants to try something new\, make new connections and have a cup of tea and a slice of cake!  The social runs from 1-3 p.m. \nExplore the theme of belonging through mindful sewing as we create a piece for a beautiful community quilt.  No experience needed – everything will be taught on the day. \nIf you have any questions regarding any of our workshops or events\, call us directly on 01953 713390 or email info@creativeartseast.co.uk.  Bookings can also be made online via our Ticketsource.co.uk/creative-arts-east. \nFor more details and the poster follow the link here  \n  \n  \n 
URL:https://greatmassinghamvillagehall.co.uk/event/stitching-workshops/
LOCATION:Great Massingham Village Hall\, 58 Station Road\, Great Massingham\, Norfolk\, PE32 2HU\, United Kingdom
ATTACH;FMTTYPE=image/jpeg:https://greatmassinghamvillagehall.co.uk/wp-content/uploads/2025/12/sewing-kit-5063401_1280-e1765974026166.jpg
END:VEVENT
BEGIN:VEVENT
DTSTART;TZID=Europe/London:20260217T123000
DTEND;TZID=Europe/London:20260217T143000
DTSTAMP:20260419T130821
CREATED:20260108T164452Z
LAST-MODIFIED:20260108T165118Z
UID:10001235-1771331400-1771338600@greatmassinghamvillagehall.co.uk
SUMMARY:Lunch\, Munch\, Bunch
DESCRIPTION:Come and enjoy a delicious two-course meal and have a catch-up and chat. Arrive at 12.30 with lunch served at 1pm. £8.00 per person. Drinks are available to purchase from the Bar. \nThis month’s menu comprises chicken curry with rice and poppadoms followed by lemon meringue pie. A vegetarian option is available. \nTo book your place please contact Debbie Lambert via the contact form here \, ask at the Bar or call us on 01485 520588 or 07493 406501. \n 
URL:https://greatmassinghamvillagehall.co.uk/event/lunch-munch-bunch/
LOCATION:Great Massingham Village Hall\, 58 Station Road\, Great Massingham\, Norfolk\, PE32 2HU\, United Kingdom
ATTACH;FMTTYPE=image/jpeg:https://greatmassinghamvillagehall.co.uk/wp-content/uploads/2024/09/clubs-community-lunch-1-e1762277037233.jpg
END:VEVENT
BEGIN:VEVENT
DTSTART;TZID=Europe/London:20260214T193000
DTEND;TZID=Europe/London:20260214T230000
DTSTAMP:20260419T130821
CREATED:20250313T165956Z
LAST-MODIFIED:20260121T165957Z
UID:10000089-1771097400-1771110000@greatmassinghamvillagehall.co.uk
SUMMARY:Charity Bingo Night for Tapping House
DESCRIPTION:Charity Bingo Night in aid of Tapping House at Great Massingham Village Hall. \nDoors open at 6.30 p.m. \nEyes Down at 7.00 p.m. \nFun – Prizes – Raffle \n  \n 
URL:https://greatmassinghamvillagehall.co.uk/event/quiz-night-8/
LOCATION:Great Massingham Village Hall\, 58 Station Road\, Great Massingham\, Norfolk\, PE32 2HU\, United Kingdom
ATTACH;FMTTYPE=image/jpeg:https://greatmassinghamvillagehall.co.uk/wp-content/uploads/2026/01/Tapping-House-Bingo-e1769014185919.jpg
END:VEVENT
BEGIN:VEVENT
DTSTART;VALUE=DATE:20260131
DTEND;VALUE=DATE:20260201
DTSTAMP:20260419T130821
CREATED:20260209T152325Z
LAST-MODIFIED:20260209T152325Z
UID:10001254-1769817600-1769903999@greatmassinghamvillagehall.co.uk
SUMMARY:Abba - Singalong in the Bar!
DESCRIPTION:Singalong in the bar with all of Abba’s greatest hits! \nPrize for the best ABBA costume! \n8 until 10.00 p.m. \nAll welcome! \n  \n 
URL:https://greatmassinghamvillagehall.co.uk/event/abba-singalong-in-the-bar/
LOCATION:Village Hall Bar
ATTACH;FMTTYPE=image/jpeg:https://greatmassinghamvillagehall.co.uk/wp-content/uploads/2026/02/Abba-Poster-e1770647521909.jpg
END:VEVENT
BEGIN:VEVENT
DTSTART;VALUE=DATE:20260131
DTEND;VALUE=DATE:20260201
DTSTAMP:20260419T130821
CREATED:20260129T170033Z
LAST-MODIFIED:20260129T170033Z
UID:10001238-1769817600-1769903999@greatmassinghamvillagehall.co.uk
SUMMARY:Jol Rose in the bar!
DESCRIPTION:Singalong in the bar with Jol Rose this coming Saturday! \n8 until 10.00 p.m. \nAll welcome! \n  \n 
URL:https://greatmassinghamvillagehall.co.uk/event/jol-rose-in-the-bar/
LOCATION:Village Hall Bar
ATTACH;FMTTYPE=image/jpeg:https://greatmassinghamvillagehall.co.uk/wp-content/uploads/2025/09/karaoke-PS-AI.jpg
END:VEVENT
END:VCALENDAR